Workbook
Name a: #REF!
Name a: #REF!
Name a: #REF!
Name a: #REF!
Name a: #REF!
Name a: #REF!
Name a: #REF!
Name a: #REF!
Name a: #REF!
Name a: #REF!
Name a: #REF!
Name a: #REF!
Name Analy: [1]Critères!$H$2:$H$19
Name Opération: [1]Critères!$L$3:$L$20
Name OpérationN: [1]Critères!$AJ$3:$AJ$6
Name Print_Area_0: 'Budget analytique'!$A$1:$K$38
Name TotalConstruction: #REF!
Name TotalConstruction: #REF!
Name TotalConstruction: #REF!
Name TotalConstruction: #REF!
Name TotalConstruction: #REF!
Name TotalConstruction: #REF!
Name TotalConstruction: #REF!
Name TotalConstruction: #REF!
Name TotalConstruction: #REF!
Name TotalConstruction: #REF!
Name TotalConstruction: #REF!
Name TotalConstruction: #REF!
Name TotalConstruction: #REF!
Name TotalConstruction: #REF!
Name TotalInstallation: #REF!
Name TotalInstallation: #REF!
Name TotalInstallation: #REF!
Name TotalInstallation: #REF!
Name TotalInstallation: #REF!
Name TotalInstallation: #REF!
Name TotalInstallation: #REF!
Name TotalInstallation: #REF!
Name TotalInstallation: #REF!
Name TotalInstallation: #REF!
Name TotalInstallation: #REF!
Name TotalInstallation: #REF!
Name TotalInstallation: #REF!
Name TotalInstallation: #REF!
Name TotalPlanification: #REF!
Name TotalPlanification: #REF!
Name TotalPlanification: #REF!
Name TotalPlanification: #REF!
Name TotalPlanification: #REF!
Name TotalPlanification: #REF!
Name TotalPlanification: #REF!
Name TotalPlanification: #REF!
Name TotalPlanification: #REF!
Name TotalPlanification: #REF!
Name TotalPlanification: #REF!
Name TotalPlanification: #REF!
Name TotalPlanification: #REF!
Name TotalPlanification: #REF!
Name TotalPlanification2: #REF!
Name TotalPlanification2: #REF!

Sheet Prévisionnel

Sheet Budget analytique
B1: ECLAIREUSES ECLAIREURS DE France
C2: BUDGET PREVISIONNEL | D2: 2023
C3: Structure EEDF :
D4: TOTAL | E4: TOTAL | F4: RESULTAT PREVISIONNEL V1 | G4: TOTAL | H4: TOTAL | I4: RESULTAT REEL | J4: Prévisionnel VS réel | K4: PROJECTION 31/12
C5: ACTIVITES | D5: DEPENSES V1 | E5: PRODUITS V1 | G5: DEPENSES REELLES | H5: PRODUITS REELS
B6: VIE INSTITUTIONNELLE | C6: Assemblée Générale | D6: =-SUMIFS(Table13[Montant],Table13[Montant],"<0",Table13[ACTIVITES],$C6) -> 600 | E6: =SUMIFS(Table13[Montant],Table13[Montant],">0",Table13[ACTIVITES],$C6) -> 0 | F6: =E6-D6 -> -600 | G6: =-SUMIFS('Liste prévisionnel'!E:E,'Liste prévisionnel'!E:E,"<0",'Liste prévisionnel'!M:M,C6) -> 0 | H6: =SUMIFS('Liste prévisionnel'!E:E,'Liste prévisionnel'!E:E,">0",'Liste prévisionnel'!M:M,C6) -> 0 | I6: =H6-G6 -> 0 | J6: =F6-I6 -> -600
C7: Conseil National | D7: =-SUMIFS(Table13[Montant],Table13[Montant],"<0",Table13[ACTIVITES],$C7) -> 480 | E7: =SUMIFS(Table13[Montant],Table13[Montant],">0",Table13[ACTIVITES],$C7) -> 0 | F7: =E7-D7 -> -480 | G7: =-SUMIFS('Liste prévisionnel'!E:E,'Liste prévisionnel'!E:E,"<0",'Liste prévisionnel'!M:M,C7) -> 0 | H7: =SUMIFS('Liste prévisionnel'!E:E,'Liste prévisionnel'!E:E,">0",'Liste prévisionnel'!M:M,C7) -> 0 | I7: =H7-G7 -> 0 | J7: =F7-I7 -> -480
C8: Comité régional | D8: =-SUMIFS(Table13[Montant],Table13[Montant],"<0",Table13[ACTIVITES],$C8) -> 0 | E8: =SUMIFS(Table13[Montant],Table13[Montant],">0",Table13[ACTIVITES],$C8) -> 0 | F8: =E8-D8 -> 0 | G8: =-SUMIFS('Liste prévisionnel'!E:E,'Liste prévisionnel'!E:E,"<0",'Liste prévisionnel'!M:M,C8) -> 0 | H8: =SUMIFS('Liste prévisionnel'!E:E,'Liste prévisionnel'!E:E,">0",'Liste prévisionnel'!M:M,C8) -> 0 | I8: =H8-G8 -> 0
C9: Congrès régional | D9: =-SUMIFS(Table13[Montant],Table13[Montant],"<0",Table13[ACTIVITES],$C9) -> 1952.97 | E9: =SUMIFS(Table13[Montant],Table13[Montant],">0",Table13[ACTIVITES],$C9) -> 1952.97 | F9: =E9-D9 -> 0 | G9: =-SUMIFS('Liste prévisionnel'!E:E,'Liste prévisionnel'!E:E,"<0",'Liste prévisionnel'!M:M,C9) -> 0 | H9: =SUMIFS('Liste prévisionnel'!E:E,'Liste prévisionnel'!E:E,">0",'Liste prévisionnel'!M:M,C9) -> 0 | I9: =H9-G9 -> 0 | J9: =F9-I9 -> 0
C10: Equipe régionale | D10: =-SUMIFS(Table13[Montant],Table13[Montant],"<0",Table13[ACTIVITES],$C10) -> 200 | E10: =SUMIFS(Table13[Montant],Table13[Montant],">0",Table13[ACTIVITES],$C10) -> 200 | F10: =E10-D10 -> 0 | G10: =-SUMIFS('Liste prévisionnel'!E:E,'Liste prévisionnel'!E:E,"<0",'Liste prévisionnel'!M:M,C10) -> 0 | H10: =SUMIFS('Liste prévisionnel'!E:E,'Liste prévisionnel'!E:E,">0",'Liste prévisionnel'!M:M,C10) -> 0 | I10: =H10-G10 -> 0 | J10: =F10-I10 -> 0
C11: Sous-total | D11: =SUM(D6:D10) -> 3232.97 | E11: =SUM(E6:E10) -> 2152.97 | F11: =E11-D11 -> -1080 | G11: =SUM(G6:G10) -> 0 | H11: =SUM(H6:H10) -> 0 | I11: =H11-G11 -> 0 | J11: =SUM(J6:J10) -> -1080 | K11: =SUM(K6:K10) -> 0
B13: ACTIONS REGIONALES | C13: Formations des bénévoles (hors BAFA-BAFD) | D13: =-SUMIFS(Table13[Montant],Table13[Montant],"<0",Table13[ACTIVITES],$C13) -> 5680 | E13: =SUMIFS(Table13[Montant],Table13[Montant],">0",Table13[ACTIVITES],$C13) -> 6000 | F13: =E13-D13 -> 320 | G13: =CHARGES!AE61 -> 6000 | H13: =PRODUITS!AE42 -> 6000 | I13: =H13-G13 -> 0 | J13: =F13-I13 -> 320
C14: Formations des salariés | D14: =CHARGES!I61 -> 0 | E14: =PRODUITS!I42 -> 0 | F14: =E14-D14 -> 0 | G14: =CHARGES!AF61 -> 0 | H14: =PRODUITS!AF42 -> 0 | I14: =H14-G14 -> 0
C15: Formations des services civiques | D15: =CHARGES!J61 -> 0 | E15: =PRODUITS!J42 -> 0 | F15: =E15-D15 -> 0 | G15: =CHARGES!AG61 -> 0 | H15: =PRODUITS!AG42 -> 0 | I15: =H15-G15 -> 0
C16: Mini-séjours et rassemblements régionaux | D16: =-SUMIFS(Table13[Montant],Table13[Montant],"<0",Table13[ACTIVITES],$C16) -> 12332 | E16: =SUMIFS(Table13[Montant],Table13[Montant],">0",Table13[ACTIVITES],$C16) -> 10400 | F16: =E16-D16 -> -1932 | G16: =CHARGES!AH61 -> 12680 | H16: =PRODUITS!AH42 -> 11375 | I16: =H16-G16 -> -1305 | J16: =F16-I16 -> -627
C17: Rassemblements nationaux | D17: =CHARGES!L61 -> 0 | E17: =PRODUITS!L42 -> 0 | F17: =E17-D17 -> 0 | G17: =CHARGES!AI61 -> 0 | H17: =PRODUITS!AI42 -> 0 | I17: =H17-G17 -> 0
C18: Sous-total | D18: =SUM(D13:D17) -> 18012 | E18: =SUM(E13:E17) -> 16400 | F18: =E18-D18 -> -1612 | G18: =SUM(G13:G17) -> 18680 | H18: =SUM(H13:H17) -> 17375 | I18: =H18-G18 -> -1305 | J18: =SUM(J13:J17) -> -307 | K18: =SUM(K13:K17) -> 0
B20: ACTIVITES OUVERTES | C20: Formations BAFA-BAFD | D20: =-SUMIFS(Table13[Montant],Table13[Montant],"<0",Table13[ACTIVITES],$C20) -> 8040 | E20: =SUMIFS(Table13[Montant],Table13[Montant],">0",Table13[ACTIVITES],$C20) -> 8550 | F20: =E20-D20 -> 510 | G20: =CHARGES!AJ61 -> 8040 | H20: =PRODUITS!AJ42 -> 8550 | I20: =H20-G20 -> 510 | J20: =F20-I20 -> 0
C21: Croq'nature | D21: =-SUMIFS(Table13[Montant],Table13[Montant],"<0",Table13[ACTIVITES],$C21) -> 0 | E21: =SUMIFS(Table13[Montant],Table13[Montant],">0",Table13[ACTIVITES],$C21) -> 0 | F21: =E21-D21 -> 0 | G21: =CHARGES!AK61 -> 0 | H21: =PRODUITS!AK42 -> 0 | I21: =H21-G21 -> 0
C22: Séjours ouverts | D22: =-SUMIFS(Table13[Montant],Table13[Montant],"<0",Table13[ACTIVITES],$C22) -> 0 | E22: =SUMIFS(Table13[Montant],Table13[Montant],">0",Table13[ACTIVITES],$C22) -> 3000 | F22: =E22-D22 -> 3000 | G22: =CHARGES!AL61 -> 18536.8 | H22: =PRODUITS!AL42 -> 25500 | I22: =H22-G22 -> 6963.2 | J22: =F22-I22 -> -3963.2
C23: Séjours adaptés | D23: =-SUMIFS(Table13[Montant],Table13[Montant],"<0",Table13[ACTIVITES],$C23) -> 0 | E23: =SUMIFS(Table13[Montant],Table13[Montant],">0",Table13[ACTIVITES],$C23) -> 0 | F23: =E23-D23 -> 0 | G23: =CHARGES!AM61 -> 0 | H23: =PRODUITS!AM42 -> 0 | I23: =H23-G23 -> 0
C24: Ecole | D24: =-SUMIFS(Table13[Montant],Table13[Montant],"<0",Table13[ACTIVITES],$C24) -> 0 | E24: =SUMIFS(Table13[Montant],Table13[Montant],">0",Table13[ACTIVITES],$C24) -> 0 | F24: =E24-D24 -> 0 | G24: =CHARGES!AN61 -> 0 | H24: =PRODUITS!AN42 -> 0 | I24: =H24-G24 -> 0
C25: Autres activités | D25: =-SUMIFS(Table13[Montant],Table13[Montant],"<0",Table13[ACTIVITES],$C25) -> 895.65 | E25: =SUMIFS(Table13[Montant],Table13[Montant],">0",Table13[ACTIVITES],$C25) -> 900 | F25: =E25-D25 -> 4.35 | G25: =CHARGES!AO61 -> 0 | H25: =PRODUITS!AO42 -> 0 | I25: =H25-G25 -> 0 | J25: =F25-I25 -> 4.35
C26: Sous-total | D26: =SUM(D20:D25) -> 8935.65 | E26: =SUM(E20:E25) -> 12450 | F26: =E26-D26 -> 3514.35 | G26: =SUM(G20:G25) -> 26576.8 | H26: =SUM(H20:H25) -> 34050 | I26: =H26-G26 -> 7473.2 | J26: =SUM(J20:J25) -> -3958.85 | K26: =SUM(K20:K25) -> 0
B28: AUTRES COÛTS | C28: Fonctionnement (charges et produits indirects) | D28: =-SUMIFS(Table13[Montant],Table13[Montant],"<0",Table13[ACTIVITES],$C28) -> 14715.4 | E28: =SUMIFS(Table13[Montant],Table13[Montant],">0",Table13[ACTIVITES],$C28) -> 13720 | F28: =E28-D28 -> -995.4 | G28: =CHARGES!AP61 -> 15811.05 | H28: =PRODUITS!AP42 -> 11606.563 | I28: =H28-G28 -> -4204.4871 | J28: =F28-I28 -> 3209.0871
C29: Subventions | D29: =CHARGES!T61 -> 0 | E29: =PRODUITS!T42 -> 0 | F29: =E29-D29 -> 0 | G29: =CHARGES!AQ61 -> 0 | H29: =PRODUITS!AQ42 -> 0 | I29: =H29-G29 -> 0
C30: Sous-total | D30: =SUM(D28:D29) -> 14715.4 | E30: =SUM(E28:E29) -> 13720 | F30: =E30-D30 -> -995.4 | G30: =SUM(G28:G29) -> 15811.05 | H30: =SUM(H28:H29) -> 11606.563 | I30: =H30-G30 -> -4204.4871 | J30: =SUM(J28:J29) -> 3209.0871 | K30: =SUM(K28:K29) -> 0
B32: ACCUEILS CENTRES | C32: Accueil gestion complète en dur | D32: =CHARGES!U61 -> 0 | E32: =PRODUITS!U42 -> 0 | F32: =E32-D32 -> 0 | G32: =CHARGES!AR61 -> 0 | H32: =PRODUITS!AR42 -> 0 | I32: =H32-G32 -> 0
C33: Accueil gestion libre en dur | D33: =CHARGES!V61 -> 0 | E33: =PRODUITS!V42 -> 0 | F33: =E33-D33 -> 0 | G33: =CHARGES!AS61 -> 0 | H33: =PRODUITS!AS42 -> 0 | I33: =H33-G33 -> 0
C34: Accueil gestion complète plein air | D34: =CHARGES!W61 -> 0 | E34: =PRODUITS!W42 -> 0 | F34: =E34-D34 -> 0 | G34: =CHARGES!AT61 -> 0 | H34: =PRODUITS!AT42 -> 0 | I34: =H34-G34 -> 0
C35: Accueil gestion libre plein air | D35: =CHARGES!X61 -> 0 | E35: =PRODUITS!X42 -> 0 | F35: =E35-D35 -> 0 | G35: =CHARGES!AU61 -> 0 | H35: =PRODUITS!AU42 -> 0 | I35: =H35-G35 -> 0
C36: Sous-total | D36: =SUM(D32:D35) -> 0 | E36: =SUM(E32:E35) -> 0 | F36: =E36-D36 -> 0 | G36: =SUM(G32:G35) -> 0 | H36: =SUM(H32:H35) -> 0 | I36: =H36-G36 -> 0 | J36: =SUM(J32:J35) -> 0 | K36: =SUM(K32:K35) -> 0
B38: Total Région | D38: =SUM(D36,D26,D18,D30,D11) -> 44896.02 | E38: =SUM(E36,E26,E18,E30,E11) -> 44722.97 | F38: =SUM(F36,F26,F18,F30,F11) -> -173.05 | G38: =SUM(G36,G26,G18,G30,G11) -> 61067.85 | H38: =SUM(H36,H26,H18,H30,H11) -> 63031.563 | I38: =SUM(I36,I26,I18,I30,I11) -> 1963.7129 | J38: =SUM(J36,J26,J18,J30,J11) -> -2136.7629 | K38: =SUM(K36,K26,K18,K30,K11) -> 0
B40: SLA | D40: ='SLA V1'!E61+'SLA V1'!F61+'SLA V1'!G61+'SLA V1'!H61+'SLA V1'!I61+'SLA V1'!J61+'SLA V1'!K61+'SLA V1'!L61+'SLA V1'!M61+'SLA V1'!N61+'SLA V1'!O61+'SLA V1'!P61+'SLA V1'!Q61+'SLA V1'!R61+'SLA V1'!S61+'SLA V1'!T61+'SLA V1'!U61+'SLA V1'!V61 -> 0 | E40: ='SLA V1'!AB61+'SLA V1'!AC61+'SLA V1'!AD61+'SLA V1'!AE61+'SLA V1'!AF61+'SLA V1'!AG61+'SLA V1'!AH61+'SLA V1'!AI61+'SLA V1'!AJ61+'SLA V1'!AK61+'SLA V1'!AL61+'SLA V1'!AM61+'SLA V1'!AN61+'SLA V1'!AO61+'SLA V1'!AP61+'SLA V1'!AQ61+'SLA V1'!AR61+'SLA V1'!AS61+'SLA V1'!AT61+'SLA V1'!AU61+'SLA V1'!AV61 -> 0 | F40: =E40-D40 -> 0 | G40: ='SLA V2 '!E61+'SLA V2 '!F61+'SLA V2 '!G61+'SLA V2 '!H61+'SLA V2 '!I61+'SLA V2 '!J61+'SLA V2 '!K61+'SLA V2 '!L61+'SLA V2 '!M61+'SLA V2 '!T61+'SLA V2 '!U61 -> 0 | H40: ='SLA V2 '!Z61+'SLA V2 '!AA61+'SLA V2 '!AB61+'SLA V2 '!AC61+'SLA V2 '!AD61+'SLA V2 '!AE61+'SLA V2 '!AF61+'SLA V2 '!AG61+'SLA V2 '!AH61+'SLA V2 '!AO61+'SLA V2 '!AP61 -> 0 | I40: =H40-G40 -> 0
B42: Total Région intégrée = Région + SLA | D42: =D38+D40 -> 44896.02 | E42: =E38+E40 -> 44722.97 | F42: =E42-D42 -> -173.05 | G42: =G38+G40 -> 61067.85 | H42: =H38+H40 -> 63031.563 | I42: =H42-G42 -> 1963.7129

Sheet PRODUITS
C1: VERSION 1 | Z1: VERSION 2
A3: DETAILS DES PRODUITS
C4: ='Budget analytique'!C6 -> Assemblée Générale | D4: Conseil National | E4: ='Budget analytique'!C8 -> Comité régional | F4: ='Budget analytique'!C9 -> Congrès régional | G4: ='Budget analytique'!C10 -> Equipe régionale | H4: ='Budget analytique'!C13 -> Formations des bénévoles (hors BAFA-BAFD) | I4: ='Budget analytique'!C14 -> Formations des salariés | J4: ='Budget analytique'!C15 -> Formations des services civiques | K4: ='Budget analytique'!C16 -> Mini-séjours et rassemblements régionaux | L4: ='Budget analytique'!C17 -> Rassemblements nationaux | M4: ='Budget analytique'!C20 -> Formations BAFA-BAFD | N4: ='Budget analytique'!C21 -> Croq'nature | O4: ='Budget analytique'!C22 -> Séjours ouverts | P4: ='Budget analytique'!C23 -> Séjours adaptés | Q4: ='Budget analytique'!C24 -> Ecole | R4: ='Budget analytique'!C25 -> Autres activités | S4: ='Budget analytique'!C28 -> Fonctionnement (charges et produits indirects) | T4: ='Budget analytique'!C29 -> Subventions | U4: ='Budget analytique'!C32 -> Accueil gestion complète en dur | V4: ='Budget analytique'!C33 -> Accueil gestion libre en dur | W4: ='Budget analytique'!C34 -> Accueil gestion complète plein air | X4: ='Budget analytique'!C35 -> Accueil gestion libre plein air | Z4: Assemblée Générale | AA4: Conseil National | AB4: Comité Régional | AC4: Congrès régional | AD4: Equipe régionale | AE4: Formations des bénévoles (Hors BAFA - BAFD) | AF4: Formations des salariés | AG4: Formations des services civiques | AH4: Mini-séjours et rassemblements régionaux | AI4: Rassemblements nationaux | AJ4: Formations BAFA-BAFD | AK4: Croq'nature | AL4: Séjours ouverts | AM4: Séjours adaptés | AN4: Ecole | AO4: Autres activités | AP4: Fonctionnement (charges et produits indirects) | AQ4: Gestion immobilière | AR4: Accueil gestion complète en dur | AS4: Accueil gestion libe en dur | AT4: Accueil gestion complète plein air | AU4: Accueil gestion libre plein air
A5: 70 | B5: Ventes de produits et prestations | C5: =SUM(C6:C14) -> 0 | D5: =SUM(D6:D14) -> 0 | E5: =SUM(E6:E14) -> 0 | F5: =SUM(F6:F14) -> 3679 | G5: =SUM(G6:G14) -> 0 | H5: =SUM(H6:H14) -> 0 | I5: =SUM(I6:I14) -> 0 | J5: =SUM(J6:J14) -> 0 | ... X5: =SUM(X6:X14) -> 0 | Z5: =SUM(Z6:Z14) -> 0 | AA5: =SUM(AA6:AA14) -> 0 | AB5: =SUM(AB6:AB14) -> 0 | AC5: =SUM(AC6:AC14) -> 1905.6171 | AD5: =SUM(AD6:AD14) -> 0 | AE5: =SUM(AE6:AE14) -> 0 | AF5: =SUM(AF6:AF14) -> 0 | AG5: =SUM(AG6:AG14) -> 0 | ... AU5: =SUM(AU6:AU14) -> 0
A6: 7060000 | B6: Participation aux camps, activités | M6: 8500 | Q6: 0 | AH6: ='BP ROLDIR'!F38 -> 11375 | AJ6: ='Récap BAFA'!C8 -> 2775 | AL6: ='Récap séjours ouverts'!C8 -> 25500
A7: 7060009 | B7: Participation aux camps, activités EEDF | F7: 3679 | K7: =50*300 -> 15000 | AC7: 1905.6171 | AJ7: ='Récap BAFA'!C9 -> 5775 | AP7: =+'OLD BP Fonct'!G21 -> 6186.5629
A8: 7061000 | B8: Prestations de service CAF
A9: 7070000 | B9: Vente de marchandises
A10: 7070009 | B10: Vente de marchandises aux EEDF
A11: 7083000 | B11: Locations immobilières & mobilières
A12: 7083009 | B12: Locations immobilières & mobilières EEDF
A13: 7080000 | B13: Produits activités annexes | R13: 3000 | S13: 9400 | AP13: =+'OLD BP Fonct'!G8 -> 900
A14: 7080009 | B14: Produits activités annexes EEDF
A15: 74 | B15: Subventions | C15: =SUM(C16:C24) -> 0 | D15: =SUM(D16:D24) -> 0 | E15: =SUM(E16:E24) -> 0 | F15: =SUM(F16:F24) -> 0 | G15: =SUM(G16:G24) -> 0 | H15: =SUM(H16:H24) -> 5960 | I15: =SUM(I16:I24) -> 0 | J15: =SUM(J16:J24) -> 0 | ... X15: =SUM(X16:X24) -> 0 | Z15: =SUM(Z16:Z24) -> 0 | AA15: =SUM(AA16:AA24) -> 0 | AB15: =SUM(AB16:AB24) -> 0 | AC15: =SUM(AC16:AC24) -> 0 | AD15: =SUM(AD16:AD24) -> 0 | AE15: =SUM(AE16:AE24) -> 6000 | AF15: =SUM(AF16:AF24) -> 0 | AG15: =SUM(AG16:AG24) -> 0 | ... AU15: =SUM(AU16:AU24) -> 0
A16: 7410000 | B16: Subventions Nationales | AE16: ='OLD - BP Tremplins'!L33 -> 6000
A17: 7411000 | B17: Subventions régionales | H17: 5960
A18: 7412000 | B18: Subventions départementales
A19: 7413000 | B19: Subventions communales | S19: 4320 | AP19: =+'OLD BP Fonct'!G2 -> 4320
A20: 7414000 | B20: Subventions aides à l'emploi (CNASEA/ASP…)
A21: 7414009 | B21: Subventions Reversées par EEDF (Fonjep)
A22: 7415000 | B22: Subventions organismes publiques (CAF…)
A23: 7416000 | B23: subventions orgnismes privés
A24: 7480000 | B24: Fonds européens
A25: 75 | B25: Produits de gestion courante | C25: =SUM(C26:C32) -> 0 | D25: =SUM(D26:D32) -> 0 | E25: =SUM(E26:E32) -> 0 | F25: =SUM(F26:F32) -> 0 | G25: =SUM(G26:G32) -> 0 | H25: =SUM(H26:H32) -> 0 | I25: =SUM(I26:I32) -> 0 | J25: =SUM(J26:J32) -> 0 | ... X25: =SUM(X26:X32) -> 0 | Z25: =SUM(Z26:Z32) -> 0 | AA25: =SUM(AA26:AA32) -> 0 | AB25: =SUM(AB26:AB32) -> 0 | AC25: =SUM(AC26:AC32) -> 0 | AD25: =SUM(AD26:AD32) -> 0 | AE25: =SUM(AE26:AE32) -> 0 | AF25: =SUM(AF26:AF32) -> 0 | AG25: =SUM(AG26:AG32) -> 0 | ... AU25: =SUM(AU26:AU32) -> 0
A26: 7540000 | B26: Dons reçus
A27: 7540009 | B27: Dons reversés par le siège national
A28: 7560000 | B28: Cotisations des adhérents | S28: 110 | AP28: =+'OLD BP Fonct'!G19 -> 200
A29: 7580000 | B29: Autres produits de gestion courante
A30: 7580009 | B30: Aides, bourses par EEDF
A31: 7580029 | B31: structures fermées
A32: 7581009 | B32: Contribution nationale EEDF
A33: 76 | B33: Produits financiers | C33: =C34 -> 0 | D33: =D34 -> 0 | E33: =E34 -> 0 | F33: =F34 -> 0 | G33: =G34 -> 0 | H33: =H34 -> 0 | I33: =I34 -> 0 | J33: =J34 -> 0 | ... X33: =X34 -> 0 | Z33: =Z34 -> 0 | AA33: =AA34 -> 0 | AB33: =AB34 -> 0 | AC33: =AC34 -> 0 | AD33: =AD34 -> 0 | AE33: =AE34 -> 0 | AF33: =AF34 -> 0 | AG33: =AG34 -> 0 | ... AU33: =AU34 -> 0
A34: 7600000 | B34: Produits financiers
A35: 77 | B35: Produits exceptionnels | C35: =SUM(C36:C40) -> 0 | D35: =SUM(D36:D40) -> 0 | E35: =SUM(E36:E40) -> 0 | F35: =SUM(F36:F40) -> 0 | G35: =SUM(G36:G40) -> 0 | H35: =SUM(H36:H40) -> 0 | I35: =SUM(I36:I40) -> 0 | J35: =SUM(J36:J40) -> 0 | ... X35: =SUM(X36:X40) -> 0 | Z35: =SUM(Z36:Z40) -> 0 | AA35: =SUM(AA36:AA40) -> 0 | AB35: =SUM(AB36:AB40) -> 0 | AC35: =SUM(AC36:AC40) -> 0 | AD35: =SUM(AD36:AD40) -> 0 | AE35: =SUM(AE36:AE40) -> 0 | AF35: =SUM(AF36:AF40) -> 0 | AG35: =SUM(AG36:AG40) -> 0 | ... AU35: =SUM(AU36:AU40) -> 0
A36: 7718000 | B36: Produits exceptionnels
A37: 7720000 | B37: Produits exceptionnels sur ex. antérieur
A38: 7750000 | B38: Prix vente des immobilisations sorties
A39: 7770000 | B39: Quote-part de subvention d'investissement
A40: 7815000 | B40: Reprise de provisions
A41: 7910000 | B41: Transfert de charges d'exploitation
...

Sheet synthèse
A2: Note de synthèse accompagnant le budget 2023
A3: 1. Contexte
A4: [Rappel des caractéristiques de l’entité, type nombre d’adhérents, type d’activités, partenariats, etc.]
A5: [Rappel des faits marquants dans l’histoire récente de l’unité, type renouvellement des élus, problèmes rencontrés sur un séjour, projets lancés récemment ]
A6: [Le cas échéant relations avec les collectivités locales du territoire ]
A12: 2. Principales initiatives et actions prévues
A13: [Décrire ici les actions pédagogiques nouvelles, les nouveaux projets, les démarches de prospection, etc.]
A14: [Indiquer s’il est prévu d’arrêter certaines activités ou actions, ou de ne les maintenir que si un nombre minimum de participants est inscrit à temps]
A15: [Décrire aussi les initiatives prévues en matière de gestion, et d’économie de frais de fonctionnement]
A31: 3. Hypothèses économiques sur lequel est construit le budget
A32: [Lister et commenter les principaux écarts Projection / Budget, notamment sur :
A33: -> Volumes d’activité/fréquentation par catégories (lutins, louveteaux, etc. ; activité pendant l’année, Séjours, formation…)
... A55: -> Subventions

Sheet Récap séjours ouverts
A1: Total Séjours ouverts
B2: dépense | C2: recettes
A3: Achats denrées alimentaires | B3: ='BP Séjour ouvert 1S'!F15+'BP Séjour ouvert 2S'!F15 -> 5278
A4: Petites fournitures et petit matériel | B4: ='BP Séjour ouvert 2S'!F16+'BP Séjour ouvert 2S'!F17+'BP Séjour ouvert 2S'!F18+'BP Séjour ouvert 1S'!F18+'BP Séjour ouvert 1S'!F16+'BP Séjour ouvert 1S'!F17 -> 1608
A5: Carburants | B5: ='BP Séjour ouvert 2S'!F19+'BP Séjour ouvert 1S'!F19 -> 300
A6: Locations terrains et centres EEDF | B6: ='BP Séjour ouvert 2S'!F25+'BP Séjour ouvert 1S'!F25 -> 3200
A8: Participation aux camps, activités | C8: ='BP Séjour ouvert 1S'!F76+'BP Séjour ouvert 2S'!F76 -> 25500
A10: Produits pharmaceutiques | B10: ='BP Séjour ouvert 2S'!F21+'BP Séjour ouvert 1S'!F21 -> 100
A13: Publication et promotion | B13: ='BP Séjour ouvert 1S'!F71+'BP Séjour ouvert 2S'!F71 -> 100
A14: Salaires bruts | B14: ='BP Séjour ouvert 1S'!F57+'BP Séjour ouvert 2S'!F57 -> 7950.8

Sheet CHARGES
C1: VERSION 1 | Z1: VERSION 2
A3: DETAILS DES CHARGES
C4: ='Budget analytique'!C6 -> Assemblée Générale | D4: Conseil National | E4: ='Budget analytique'!C8 -> Comité régional | F4: ='Budget analytique'!C9 -> Congrès régional | G4: ='Budget analytique'!C10 -> Equipe régionale | H4: ='Budget analytique'!C13 -> Formations des bénévoles (hors BAFA-BAFD) | I4: ='Budget analytique'!C14 -> Formations des salariés | J4: ='Budget analytique'!C15 -> Formations des services civiques | K4: ='Budget analytique'!C16 -> Mini-séjours et rassemblements régionaux | L4: ='Budget analytique'!C17 -> Rassemblements nationaux | M4: ='Budget analytique'!C20 -> Formations BAFA-BAFD | N4: ='Budget analytique'!C21 -> Croq'nature | O4: ='Budget analytique'!C22 -> Séjours ouverts | P4: ='Budget analytique'!C23 -> Séjours adaptés | Q4: ='Budget analytique'!C24 -> Ecole | R4: ='Budget analytique'!C25 -> Autres activités | S4: ='Budget analytique'!C28 -> Fonctionnement (charges et produits indirects) | T4: ='Budget analytique'!C29 -> Subventions | U4: ='Budget analytique'!C32 -> Accueil gestion complète en dur | V4: ='Budget analytique'!C33 -> Accueil gestion libre en dur | W4: ='Budget analytique'!C34 -> Accueil gestion complète plein air | X4: ='Budget analytique'!C35 -> Accueil gestion libre plein air | Z4: Assemblée Générale | AA4: Conseil National | AB4: Comité Régional | AC4: Congrès régional | AD4: Equipe régionale | AE4: Formations des bénévoles (Hors BAFA - BAFD) | AF4: Formations des salariés | AG4: Formations des services civiques | AH4: Mini-séjours et rassemblements régionaux | AI4: Rassemblements nationaux | AJ4: Formations BAFA-BAFD | AK4: Croq'nature | AL4: Séjours ouverts | AM4: Séjours adaptés | AN4: Ecole | AO4: Autres activités | AP4: Fonctionnement (charges et produits indirects) | AQ4: Gestion immobilière | AR4: Accueil gestion complète en dur | AS4: Accueil gestion libe en dur | AT4: Accueil gestion complète plein air | AU4: Accueil gestion libre plein air
A5: 60 | B5: Achats | C5: =SUM(C6:C16) -> 500 | D5: =SUM(D6:D16) -> 170 | E5: =SUM(E6:E16) -> 0 | F5: =SUM(F6:F16) -> 1620 | G5: =SUM(G6:G16) -> 300 | H5: =SUM(H6:H16) -> 1960 | I5: =SUM(I6:I16) -> 0 | J5: =SUM(J6:J16) -> 0 | ... X5: =SUM(X6:X16) -> 0 | Z5: =SUM(Z6:Z16) -> 720 | AA5: =SUM(AA6:AA16) -> 360 | AB5: =SUM(AB6:AB16) -> 0 | AC5: =SUM(AC6:AC16) -> 619.33 | AD5: =SUM(AD6:AD16) -> 300 | AE5: =SUM(AE6:AE16) -> 2000 | AF5: =SUM(AF6:AF16) -> 0 | AG5: =SUM(AG6:AG16) -> 0 | ... AU5: =SUM(AU6:AU16) -> 0
A6: 6040000 | B6: Prestations éducatives
A7: 6040009 | B7: Prestations éducatives EEDF | C7: 500 | D7: =2*85 -> 170 | F7: 500 | Z7: =6*120 -> 720 | AA7: =120*3 -> 360
A8: 6061000 | B8: Eau, gaz, électricité, combustible | K8: 100
A9: 6062000 | B9: Achats denrées alimentaires | F9: =80*2*7 -> 1120 | G9: 300 | H9: =70*2*7*2 -> 1960 | K9: =300*3*7 -> 6300 | M9: 2000 | AC9: 619.33 | AD9: 300 | AE9: ='OLD - BP Tremplins'!L15 -> 1680 | AH9: ='BP ROLDIR'!F15 -> 3680 | AJ9: ='Récap BAFA'!B3 -> 1785 | AL9: ='Récap séjours ouverts'!B3 -> 5278
A10: 6063000 | B10: Petites fournitures et petit matériel | K10: 300 | M10: 1000 | S10: 50 | AE10: ='OLD - BP Tremplins'!L18 -> 320 | AH10: ='BP ROLDIR'!F17 -> 200 | AJ10: ='Récap BAFA'!B4 -> 355 | AL10: ='Récap séjours ouverts'!B4 -> 1608 | AP10: ='OLD BP Fonct'!C16 -> 500
A11: 6064000 | B11: Fournitures administratives
A12: 6065000 | B12: Carburants | AJ12: ='Récap BAFA'!B5 -> 100 | AL12: ='Récap séjours ouverts'!B5 -> 300
A13: 6066000 | B13: Produits pharmaceutiques | AL13: ='Récap séjours ouverts'!B10 -> 100
A14: 6068000 | B14: Fournitures éducatives et pédagogiques | K14: 300
A15: 6070000 | B15: Achat de marchandises pour la revente
A16: 6070009 | B16: Achat de marchandises à EEDF pour revente
A17: 61 | B17: Services extérieurs | C17: =SUM(C18:C27) -> 0 | D17: =SUM(D18:D27) -> 0 | E17: =SUM(E18:E27) -> 0 | F17: =SUM(F18:F27) -> 1000 | G17: =SUM(G18:G27) -> 0 | H17: =SUM(H18:H27) -> 2000 | I17: =SUM(I18:I27) -> 0 | J17: =SUM(J18:J27) -> 0 | ... X17: =SUM(X18:X27) -> 0 | Z17: =SUM(Z18:Z27) -> 0 | AA17: =SUM(AA18:AA27) -> 0 | AB17: =SUM(AB18:AB27) -> 0 | AC17: =SUM(AC18:AC27) -> 700 | AD17: =SUM(AD18:AD27) -> 0 | AE17: =SUM(AE18:AE27) -> 2000 | AF17: =SUM(AF18:AF27) -> 0 | AG17: =SUM(AG18:AG27) -> 0 | ... AU17: =SUM(AU18:AU27) -> 0
A18: 6132000 | B18: Locations immobilières | H18: 0 | K18: 0 | M18: 4000 | Q18: 0 | S18: 4320 | AP18: =+'OLD BP Fonct'!C2 -> 4320
A19: 6132009 | B19: Locations terrains et centres EEDF | F19: 1000 | H19: 2000 | K19: =2000 -> 2000 | AC19: 700 | AE19: ='OLD - BP Tremplins'!L25 -> 2000 | AH19: ='BP ROLDIR'!F25 -> 100 | AJ19: ='Récap BAFA'!B6 -> 5600 | AL19: ='Récap séjours ouverts'!B6 -> 3200
A20: 6135000 | B20: Autres locations (matériel, véhicules)
A21: 6135009 | B21: Location mobilères à EEDF
A22: 6140000 | B22: Charges locatives et de copropriété
A23: 6150000 | B23: Entretien et réparations | R23: 250 | AP23: =+'OLD BP Fonct'!C10 -> 200
A24: 6160000 | B24: Primes d'assurance | S24: 1330 | AP24: ='OLD BP Fonct'!C8+'OLD BP Fonct'!C4 -> 1016.05
A25: 6180000 | B25: Frais de formations extérieures
A26: 6180009 | B26: Frais de formation EEDF
A27: 6183000 | B27: Documentation
A28: 62 | B28: Autres services extérieurs | C28: =SUM(C29:C36) -> 0 | D28: =SUM(D29:D36) -> 0 | E28: =SUM(E29:E36) -> 0 | F28: =SUM(F29:F36) -> 1059 | G28: =SUM(G29:G36) -> 500 | H28: =SUM(H29:H36) -> 2000 | I28: =SUM(I29:I36) -> 0 | J28: =SUM(J29:J36) -> 0 | ... X28: =SUM(X29:X36) -> 0 | Z28: =SUM(Z29:Z36) -> 0 | AA28: =SUM(AA29:AA36) -> 0 | AB28: =SUM(AB29:AB36) -> 0 | AC28: =SUM(AC29:AC36) -> 670 | AD28: =SUM(AD29:AD36) -> 500 | AE28: =SUM(AE29:AE36) -> 2000 | AF28: =SUM(AF29:AF36) -> 0 | AG28: =SUM(AG29:AG36) -> 0 | ... AU28: =SUM(AU29:AU36) -> 0
A29: 6226000 | B29: Honoraires
A30: 6230000 | B30: Publication et promotion | AL30: ='Récap séjours ouverts'!B13 -> 100
A31: 6230009 | B31: Publication et promotion à EEDF
A32: 6240000 | B32: Transport des participants | F32: 1059 | H32: =2000 -> 2000 | K32: 6000 | AC32: 670
A33: 6250000 | B33: Trpt et déplac;, missions, réceptions | G33: 500 | M33: 600 | AD33: 500 | AE33: ='OLD - BP Tremplins'!L26 -> 2000 | AH33: ='BP ROLDIR'!F26 -> 8700 | AJ33: ='Récap BAFA'!B7 -> 200
A34: 6260000 | B34: Affranchissement, téléphone et internet | AP34: ='OLD BP Fonct'!C17 -> 120
A35: 6270000 | B35: Services bancaires | S35: 55 | AP35: =+'OLD BP Fonct'!C15 -> 55
A36: 6280000 | B36: Cotisations autres associations | S36: 70
A37: 63 | B37: Impôts et taxes | C37: =C38 -> 0 | D37: =D38 -> 0 | E37: =E38 -> 0 | F37: =F38 -> 0 | G37: =G38 -> 0 | H37: =H38 -> 0 | I37: =I38 -> 0 | J37: =J38 -> 0 | ... X37: =X38 -> 0 | Z37: =Z38 -> 0 | AA37: =AA38 -> 0 | AB37: =AB38 -> 0 | AC37: =AC38 -> 0 | AD37: =AD38 -> 0 | AE37: =AE38 -> 0 | AF37: =AF38 -> 0 | AG37: =AG38 -> 0 | ... AU37: =AU38 -> 0
A38: 6370000 | B38: Impôts divers
A39: 64 | B39: Charges de personnel | C39: =SUM(C40:C42) -> 0 | D39: =SUM(D40:D42) -> 0 | E39: =SUM(E40:E42) -> 0 | F39: =SUM(F40:F42) -> 0 | G39: =SUM(G40:G42) -> 0 | H39: =SUM(H40:H42) -> 0 | I39: =SUM(I40:I42) -> 0 | J39: =SUM(J40:J42) -> 0 | ... X39: =SUM(X40:X42) -> 0 | Z39: =SUM(Z40:Z42) -> 0 | AA39: =SUM(AA40:AA42) -> 0 | AB39: =SUM(AB40:AB42) -> 0 | AC39: =SUM(AC40:AC42) -> 0 | AD39: =SUM(AD40:AD42) -> 0 | AE39: =SUM(AE40:AE42) -> 0 | AF39: =SUM(AF40:AF42) -> 0 | AG39: =SUM(AG40:AG42) -> 0 | ... AU39: =SUM(AU40:AU42) -> 0
A40: 6410009 | B40: Salaires bruts | S40: 9400 | AL40: ='Récap séjours ouverts'!B14 -> 7950.8 | AP40: =+'OLD BP Fonct'!C21 -> 9400
A41: 6450009 | B41: Charges Sociales
...

Sheet OLD BP Fonct
A1: PERMANENCE
B2: Loyer : | C2: =12*360 -> 4320 | D2: 360 € par mois | F2: Subvention loyer | G2: =C2 -> 4320
B4: MAIF : | C4: 320.4
A7: CAMION :
B8: MAIF : | C8: 695.65 | F8: Location | G8: 900
B10: Réparations : | C10: 200
A14: AUTRE :
B15: CB | C15: 55
B16: Matériel | C16: 500
B17: Tel | C17: =10*12 -> 120
A18: ASSOCIATIF :
B19: Adhésion | C19: 200 | F19: Adhésion | G19: 200
B21: MS AD Siège | C21: 9400 | F21: Refacturation AD Siege | G21: 6186.5629
B27: CHARGE
C28: =SUM(C1:C25) -> 15811.05 | F28: PRODUIT | G28: =SUM(G1:G25) -> 11606.563
E30: Résultat
E31: =G28-C28 -> -4204.4871

Sheet BP Petit Bivouac - P2
A1: BUDGET PREVISIONNEL -propal 2 (hors Transport)
A2: Sous réserves d'erreurs: merci de les signaler si nécessaire
A3: Intitulé de séjour | C3: Petit bivouac | G3: Encadrants | J3: Enfants & Jeunes
A4: Organisateur | G4: Lutins | I4: 15 | J4: Lutins | K4: 50 | L4: ratio effectif | M4: =K4/I4 -> 3.3333333
A5: Prix de séjour (1er enfant) | B5: 65% des jeunes | C5: 160 | G5: Louveteaux | I5: 13 | J5: Louveteaux | K5: 50 | L5: ratio effectif | M5: =K5/I5 -> 3.8461538
A6: Prix de séjour (Enfants suivants) | B6: 35% des jeunes | C6: 150 | G6: Eclés | I6: 7 | J6: Eclés | K6: 100 | L6: ratio effectif | M6: =K6/I6 -> 14.285714
A7: Date début | C7: 45851 | G7: Aînés | I7: 5 | J7: Aînés | K7: 0 | L7: ratio effectif | M7: =K7/I7 -> 0 | N7: pas d'ainés a petit bivouac
A8: Date fin | C8: 45859 | G8: Commun | I8: 10 | J8: TOTAL | K8: =SUM(K4:K7) -> 200
A9: Nbr de jours | C9: =C8-C7+1 -> 9
A10: Nbr de part. | C10: =K8 -> 200 | G10: TOTAL | I10: =SUM(I4:I9) -> 50 | J10: Journées | K10: =(K8+I10)*C9 -> 2250
A12: PREVISIONNEL | G12: Réel
C13: Nbr J | D13: Nbr P | E13: Prix | F13: Total | G13: Nbr J | H13: Nbr P | I13: Prix | J13: Total | K13: Delta
A14: A GERER PAR LES DIRECTEURS
A15: cpt60 - Achat
A16: Alimentation | B16: Achats denrées alimentaires | C16: =C9 -> 9 | D16: =C10+I10 -> 250 | E16: 8 | F16: =C16*D16*E16 -> 18000
A17: Entretien | B17: Petites fournitures et petit matériel | C17: =$C$9 -> 9 | D17: =$C$10+$I$10 -> 250 | E17: 0.025 | F17: =C17*D17*E17 -> 56.25
A18: Matériel éducatif | B18: Fournitures éducatives et pédagogiques | C18: =$C$9 -> 9 | D18: =$C$10+$I$10 -> 250 | E18: 0.43 | F18: =C18*D18*E18+97 -> 1064.5
A19: Matériel général | B19: Petites fournitures et petit matériel | C19: =$C$9 -> 9 | D19: =$C$10+$I$10 -> 250 | E19: 1 | F19: =C19*D19*E19 -> 2250
A20: Déplacement | B20: Carburants | C20: =$C$9 -> 9 | D20: =$C$10+$I$10 -> 250 | F20: 372.5
A21: Activités éducatives | B21: Prestations éducatives | C21: 8 | D21: =C10 -> 200 | E21: 0 | F21: =C21*D21*E21 -> 0
A22: Pharmacie | B22: Produits pharmaceutiques | C22: =C9 -> 9 | D22: =C10+I10 -> 250 | F22: 100
A23: TOTAL BP Direction | F23: =SUM(F16:F22) -> 21843.25
A24: A GERER PAR L'ORGANISATEUR
A25: C H A R G E S P R O P R E S A U S E J O U R
A26: cpt61 - Services extérieurs
A27: Location (hébergement) | B27: Locations immobilières | C27: =$C$9 -> 9 | D27: =$C$10+$I$10 -> 250 | E27: 4 | F27: =C27*D27*E27 -> 9000
A28: Location (autres) | B28: Autres locations (matériel, véhicules) | C28: =$C$9 -> 9 | D28: 2 | E28: 60 | F28: =C28*D28*E28 -> 1080
A29: Formation | B29: Frais de formation EEDF | C29: =$C$9 -> 9 | D29: =$C$10+$I$10 -> 250 | F29: =C29*D29*E29 -> 0
A30: Assurance | B30: Primes d'assurance | C30: =$C$9 -> 9 | D30: =$C$10+$I$10 -> 250 | F30: =C30*D30*E30 -> 0
A31: TOTAL BP Organisateur - cpt61 | F31: =SUM(F27:F30) -> 10080
A32: cpt62 - Autres services
A33: Publicité | B33: Publication et promotion | C33: 1 | D33: 1 | F33: =C33*D33*E33 -> 0
A34: Transport (équipe) | B34: Trpt et déplac;, missions, réceptions | C34: 1 | D34: 1 | F34: 746.75
A35: Transport (participants lutins/loups) | B35: Transport des participants | C35: 1 | D35: =I4+I5+K4+K5 -> 128 | F35: =C35*D35*E35 -> 0
A36: Transport (participants éclés/aînés) | B36: Transport des participants | C36: 1 | D36: =I6+I7+K7+K6 -> 112 | F36: =C36*D36*E36 -> 0
A37: TOTAL BP Organisateur - cpt62 | F37: =SUM(F33:F36) -> 746.75
A38: cpt65 - Charges de gestion courante
A39: Contribution (10% des produits) | F39: =F49*0.1 -> 3130
A40: TOTAL BP Organisateur - cpt65 | F40: =F39 -> 3130
F43: PREVISIONNEL
...

Sheet Recap Petit + Grand Bivouac
B1: 1er enfant : | F1: Enfants suivants :
A2: Tranche | B2: Prix Grand Bivouac | C2: Prix Petit Bivouac | D2: Total | F2: Prix Grand Bivouac | G2: Prix Petit Bivouac | H2: Total | J2: Prix incluant :
A3: T1 | B3: 240 | C3: ='BP Petit Bivouac'!$C$5 -> 190 | D3: =B3+C3 -> 430 | E3: T1 | F3: 215 | G3: ='BP Petit Bivouac'!$C$6 -> 175 | H3: =F3+G3 -> 390 | J3: l'alimentaire, le logement (y compris en itinérence), le déplacement du groupe vers le petit bivouac pour les lutins/lvx, la contribution, le transport vers Grand Bivouac, le Grand Bivouac
A4: T2 | B4: 255 | C4: ='BP Petit Bivouac'!$C$5 -> 190 | D4: =B4+C4 -> 445 | E4: T2 | F4: 230 | G4: ='BP Petit Bivouac'!$C$6 -> 175 | H4: =F4+G4 -> 405
A5: T3 | B5: 280 | C5: ='BP Petit Bivouac'!$C$5 -> 190 | D5: =B5+C5 -> 470 | E5: T3 | F5: 255 | G5: ='BP Petit Bivouac'!$C$6 -> 175 | H5: =F5+G5 -> 430
A6: T4 | B6: 310 | C6: ='BP Petit Bivouac'!$C$5 -> 190 | D6: =B6+C6 -> 500 | E6: T4 | F6: 280 | G6: ='BP Petit Bivouac'!$C$6 -> 175 | H6: =F6+G6 -> 455
A7: T5 | B7: 345 | C7: ='BP Petit Bivouac'!$C$5 -> 190 | D7: =B7+C7 -> 535 | E7: T5 | F7: 315 | G7: ='BP Petit Bivouac'!$C$6 -> 175 | H7: =F7+G7 -> 490 | J7: Prix n'incluant PAS:
J8: l'équipement des groupes, le déplacement retour (selon où passera le bus), la participation à la formation des animateurs. Les forfaits de participation des responsables sur le Grand Bivouac
A9: moyenne | B9: =AVERAGE(B3:B7) -> 286 | D9: =AVERAGE(D3:D7) -> 476 | E9: moyenne | F9: =AVERAGE(F3:F7) -> 259 | H9: =AVERAGE(H3:H7) -> 434
A12: SI TRANSPORT EXCLUS :
B14: 1er enfant : | F14: Enfants suivants :
A15: Tranche | B15: Prix Grand Bivouac | C15: Prix Petit Bivouac | D15: Total | F15: Prix Grand Bivouac | G15: Prix Petit Bivouac | H15: Total | J15: Prix incluant :
A16: T1 | B16: 240 | C16: ='BP Petit Bivouac - P2'!C5 -> 160 | D16: =B16+C16 -> 400 | E16: T1 | F16: 215 | G16: ='BP Petit Bivouac - P2'!C6 -> 150 | H16: =F16+G16 -> 365 | J16: l'alimentaire, le logement (y compris en itinérence), la contribution, le transport vers Grand Bivouac, le Grand Bivouac
A17: T2 | B17: 255 | C17: =C16 -> 160 | D17: =B17+C17 -> 415 | E17: T2 | F17: 230 | G17: =G16 -> 150 | H17: =F17+G17 -> 380
A18: T3 | B18: 280 | C18: =C17 -> 160 | D18: =B18+C18 -> 440 | E18: T3 | F18: 255 | G18: =G17 -> 150 | H18: =F18+G18 -> 405
A19: T4 | B19: 310 | C19: =C18 -> 160 | D19: =B19+C19 -> 470 | E19: T4 | F19: 280 | G19: =G18 -> 150 | H19: =F19+G19 -> 430
A20: T5 | B20: 345 | C20: =C19 -> 160 | D20: =B20+C20 -> 505 | E20: T5 | F20: 315 | G20: =G19 -> 150 | H20: =F20+G20 -> 465 | J20: Prix n'incluant PAS:
J21: l'équipement des groupes, le déplacement, la participation à la formation des animateurs. Les forfaits de participation des responsables sur le Grand Bivouac
A22: moyenne | B22: =AVERAGE(B16:B20) -> 286 | D22: =AVERAGE(D16:D20) -> 446 | E22: moyenne | F22: =AVERAGE(F16:F20) -> 259 | H22: =AVERAGE(H16:H20) -> 409
C25: Groupes | D25: Enfants | E25: Respons | H25: T1 | I25: T2 | J25: T3 | K25: T4 | L25: T5
C26: Metz | D26: 40 | E26: 10 | H26: 15 | I26: 11 | J26: 15 | K26: 4 | L26: 17
C27: Nancy | D27: 20 | E27: 5 | H27: 0 | I27: 3 | J27: 1 | K27: 1 | L27: 3
C28: Freyming | D28: 20 | E28: 7 | F28: incl. ainés | H28: 12 | I28: 0 | J28: 5 | K28: 0 | L28: 2
C29: Plappeville | D29: 15 | E29: 3 | F29: pas de lutins | H29: 0 | I29: 0 | J29: 0 | K29: 0 | L29: 0
C30: Mulhouse | D30: 40 | E30: 10 | H30: 8 | I30: 21 | J30: 10 | K30: 0 | L30: 11
C31: Strasbourg | D31: 25 | E31: 5 | F31: que lutins/lvx | H31: 8 | I31: 14 | J31: 11 | K31: 1 | L31: 9
C32: Vigy | D32: 25 | E32: 5 | F32: a confirmer. pas de lutins | H32: 3 | I32: 14 | J32: 7 | K32: 0 | L32: 2
C33: Charleville | D33: 3 | E33: 2 | H33: 0 | I33: 0 | J33: 5 | K33: 0 | L33: 0
C34: Lessy | F34: a confirmer | H34: 0 | I34: 0 | J34: 0 | K34: 0 | L34: 0
C35: TOTAL | D35: =SUM(D26:D33) -> 188 | E35: =SUM(E26:E33) -> 47 | F35: =D35+E35 -> 235 | H35: =SUM(H26:H34) -> 46 | I35: =SUM(I26:I34) -> 63 | J35: =SUM(J26:J34) -> 54 | K35: =SUM(K26:K34) -> 6 | L35: =SUM(L26:L34) -> 44
F36: Sans orga

Sheet Simul prix petit bivouac
E1: T1 | F1: T2 | G1: T3 | H1: T4 | I1: T5
C2: GRAND EST | D2: 2024 | E2: 131 | F2: 75 | G2: 74 | H2: 12 | I2: 93 | J2: =SUM(E2:I2) -> 385
D3: 2025 | E3: 60 | F3: 78 | G3: 63 | H3: 7 | I3: 55 | J3: =SUM(E3:I3) -> 263
E4: =E3/E2 -> 0.45801527 | F4: =F3/F2 -> 1.04 | G4: =G3/G2 -> 0.85135135 | H4: =H3/H2 -> 0.58333333 | I4: =I3/I2 -> 0.59139785 | J4: =J3/J2 -> 0.68311688
C6: METZ | D6: 2024 | E6: 13 | F6: 7 | G6: 13 | H6: 0 | I6: 10 | J6: =SUM(E6:I6) -> 43
D7: 2025 | E7: 15 | F7: 11 | G7: 15 | H7: 4 | I7: 17 | J7: =SUM(E7:I7) -> 62
E8: =E7/E6 -> 1.1538462 | F8: =F7/F6 -> 1.5714286 | G8: =G7/G6 -> 1.1538462 | H8: =H7/H6 -> #DIV/0! | I8: =I7/I6 -> 1.7 | J8: =J7/J6 -> 1.4418605
C10: Nancy | D10: 2024 | E10: 4 | F10: 4 | G10: 4 | H10: 3 | I10: 8 | J10: =SUM(E10:I10) -> 23
D11: 2025 | E11: 1 | F11: 3 | G11: 1 | H11: 1 | I11: 3 | J11: =SUM(E11:I11) -> 9
E12: =E11/E10 -> 0.25 | F12: =F11/F10 -> 0.75 | G12: =G11/G10 -> 0.25 | H12: =H11/H10 -> 0.33333333 | I12: =I11/I10 -> 0.375 | J12: =J11/J10 -> 0.39130435
C14: Freyming | D14: 2024 | E14: 31 | G14: 6 | I14: 3 | J14: =SUM(E14:I14) -> 40
D15: 2025 | E15: 12 | G15: 5 | I15: 2 | J15: =SUM(E15:I15) -> 19
E16: =E15/E14 -> 0.38709677 | F16: =F15/F14 -> #DIV/0! | G16: =G15/G14 -> 0.83333333 | H16: =H15/H14 -> #DIV/0! | I16: =I15/I14 -> 0.66666667 | J16: =J15/J14 -> 0.475
C18: Plappeville | D18: 2024 | E18: 4 | F18: 1 | G18: 2 | H18: 3 | I18: 5 | J18: =SUM(E18:I18) -> 15
C19: age max 14 | D19: 2025 | E19: 0 | F19: 0 | G19: 0 | H19: 0 | I19: 0 | J19: =SUM(E19:I19) -> 0
E20: =E19/E18 -> 0 | F20: =F19/F18 -> 0 | G20: =G19/G18 -> 0 | H20: =H19/H18 -> 0 | I20: =I19/I18 -> 0 | J20: =J19/J18 -> 0
C22: Mulhouse | D22: 2024 | E22: 17 | F22: 14 | G22: 9 | H22: 0 | I22: 13 | J22: =SUM(E22:I22) -> 53
D23: 2025 | E23: 8 | F23: 21 | G23: 10 | H23: 0 | I23: 11 | J23: =SUM(E23:I23) -> 50
E24: =E23/E22 -> 0.47058824 | F24: =F23/F22 -> 1.5 | G24: =G23/G22 -> 1.1111111 | H24: =H23/H22 -> #DIV/0! | I24: =I23/I22 -> 0.84615385 | J24: =J23/J22 -> 0.94339623
C26: Strasbourg | D26: 2024 | E26: 7 | F26: 5 | G26: 10 | H26: 0 | I26: 8 | J26: =SUM(E26:I26) -> 30
C27: age max 11 | D27: 2025 | E27: 5 | F27: 6 | G27: 4 | H27: 1 | I27: 2 | J27: =SUM(E27:I27) -> 18
E28: =E27/E26 -> 0.71428571 | F28: =F27/F26 -> 1.2 | G28: =G27/G26 -> 0.4 | H28: =H27/H26 -> #DIV/0! | I28: =I27/I26 -> 0.25 | J28: =J27/J26 -> 0.6
C30: Vigy | D30: 2024 | E30: 3 | F30: 11 | G30: 5 | H30: 2 | I30: 5 | J30: =SUM(E30:I30) -> 26
C31: age max 14 | D31: 2025 | E31: 1 | F31: 11 | G31: 5 | H31: 0 | I31: 0 | J31: =SUM(E31:I31) -> 17
E32: =E31/E30 -> 0.33333333 | F32: =F31/F30 -> 1 | G32: =G31/G30 -> 1 | H32: =H31/H30 -> 0 | I32: =I31/I30 -> 0 | J32: =J31/J30 -> 0.65384615
C34: Lessy | D34: 2024 | E34: 5 | F34: 4 | G34: 3 | H34: 1 | I34: 5 | J34: =SUM(E34:I34) -> 18
C35: age max 14 | D35: 2025 | J35: =SUM(E35:I35) -> 0
E36: =E35/E34 -> 0 | F36: =F35/F34 -> 0 | G36: =G35/G34 -> 0 | H36: =H35/H34 -> 0 | I36: =I35/I34 -> 0 | J36: =J35/J34 -> 0
J38: potentiels :
H39: TOTAL | I39: 2024 | J39: =J6+J10+J14+J18+J22+J26+J30+J34 -> 248
I40: 2025 | J40: =J7+J11+J15+J19+J23+J27+J31+J35 -> 175
C45: TOTAL | E45: T1 | F45: T2 | G45: T3 | H45: T4 | I45: T5
D46: 2024 | E46: =E34+E30+E26+E22+E18+E14+E10+E6 -> 84 | F46: =F34+F30+F26+F22+F18+F14+F10+F6 -> 46 | G46: =G34+G30+G26+G22+G18+G14+G10+G6 -> 52 | H46: =H34+H30+H26+H22+H18+H14+H10+H6 -> 9 | I46: =I34+I30+I26+I22+I18+I14+I10+I6 -> 57 | J46: =SUM(E46:I46) -> 248 | K46: =J46-J39 -> 0
D47: 2025 | E47: =E35+E31+E27+E23+E19+E15+E11+E7 -> 42 | F47: =F35+F31+F27+F23+F19+F15+F11+F7 -> 52 | G47: =G35+G31+G27+G23+G19+G15+G11+G7 -> 40 | H47: =H35+H31+H27+H23+H19+H15+H11+H7 -> 6 | I47: =I35+I31+I27+I23+I19+I15+I11+I7 -> 35 | J47: =SUM(E47:I47) -> 175 | K47: =J47-J40 -> 0
B51: TOTAL à générer
B52: ='BP Petit Bivouac - P2'!F49 -> 31300 | C52: eur | D52: pour | E52: =D64 -> 200 | F52: enfants | G52: soit | H52: =B52/E52 -> 156.5 | I52: €/enfants en moyenne
D54: enfants | E54: respons
C55: Metz | D55: 40 | E55: 10
C56: Nancy | D56: 20 | E56: 5
C57: Freyming | D57: 35 | E57: 7 | F57: incl. ainés
...

Sheet Compta
A1: Proposition de BP à faire valider

Sheet Budget CR
A2: Compte de résultat
A3: Prévisionnel
A5: =IF('Budget analytique'!D3="","",'Budget analytique'!D3)
A7: n° de | B7: CHARGES | C7: BP | D7: Prev. | F7: n° de | G7: PRODUITS | H7: BP | I7: =D7 -> Prev.
A8: compte | F8: compte | L8: Delta Contribution | M8: =I10*0.1-D55 -> 3351.4
A9: 60 | B9: Achats | C9: =SUM(C10:C20) -> 8373.27 | D9: =SUM(D10:D20) -> 38970 | F9: 70 | G9: Ventes de produits et prestations | H9: =SUM(H10:H18) -> 23722.97 | I9: =SUM(I10:I18) -> 56840
A10: 6040000 | B10: Prestations éducatives | C10: =-SUMIF(Table13[Type],'Budget CR'!B10,Table13[Montant]) -> 0 | D10: =-SUMIF('Liste prévisionnel'!M:M,'Budget CR'!B10,'Liste prévisionnel'!E:E) -> 2000 | E10: =IF(C10=0,0,D10/C10) -> 0 | F10: 7060000 | G10: Participation aux camps, activités | H10: =SUMIF(Table13[Type],'Budget CR'!G10,Table13[Montant]) -> 16175 | I10: =SUMIF('Liste prévisionnel'!M:M,'Budget CR'!G10,'Liste prévisionnel'!E:E) -> 51090 | J10: =IF(H10=0,0,I10/H10) -> 3.1585781 | L10: Résultat | M10: =D72 -> 3659.99
A11: 6040009 | B11: Prestations éducatives EEDF | C11: =-SUMIF(Table13[Type],'Budget CR'!B11,Table13[Montant]) -> 0 | D11: =-SUMIF('Liste prévisionnel'!M:M,'Budget CR'!B11,'Liste prévisionnel'!E:E) -> 0 | E11: =IF(C11=0,0,D11/C11) -> 0 | F11: 7060009 | G11: Participation aux camps, activités EEDF | H11: =SUMIF(Table13[Type],'Budget CR'!G11,Table13[Montant]) -> 6647.97 | I11: =SUMIF('Liste prévisionnel'!M:M,'Budget CR'!G11,'Liste prévisionnel'!E:E) -> 2800 | J11: =IF(H11=0,0,I11/H11) -> 0.4211812 | L11: Résultat retraité contrib | M11: =M10-M8 -> 308.59
A12: 6061000 | B12: Eau, gaz, électricité, combustible | C12: =-SUMIF(Table13[Type],'Budget CR'!B12,Table13[Montant]) -> 0 | D12: =-SUMIF('Liste prévisionnel'!M:M,'Budget CR'!B12,'Liste prévisionnel'!E:E) -> 500 | E12: =IF(C12=0,0,D12/C12) -> 0 | F12: 7061000 | G12: Prestations de service CAF | H12: =-SUMIF(Table13[Type],'Budget CR'!G12,Table13[Montant]) -> 0 | I12: =SUMIF('Liste prévisionnel'!M:M,'Budget CR'!G12,'Liste prévisionnel'!E:E) -> 0 | J12: =IF(H12=0,0,I12/H12) -> 0
A13: 6062000 | B13: Achats denrées alimentaires | C13: =-SUMIF(Table13[Type],'Budget CR'!B13,Table13[Montant]) -> 7218.27 | D13: =-SUMIF('Liste prévisionnel'!M:M,'Budget CR'!B13,'Liste prévisionnel'!E:E) -> 26250 | E13: =IF(C13=0,0,D13/C13) -> 3.6366054 | F13: 7070000 | G13: Vente de marchandises | H13: =-SUMIF(Table13[Type],'Budget CR'!G13,Table13[Montant]) -> 0 | I13: =SUMIF('Liste prévisionnel'!M:M,'Budget CR'!G13,'Liste prévisionnel'!E:E) -> 0 | J13: =IF(H13=0,0,I13/H13) -> 0
A14: 6063000 | B14: Petites fournitures et petit matériel | C14: =-SUMIF(Table13[Type],'Budget CR'!B14,Table13[Montant]) -> 855 | D14: =-SUMIF('Liste prévisionnel'!M:M,'Budget CR'!B14,'Liste prévisionnel'!E:E) -> 5870 | E14: =IF(C14=0,0,D14/C14) -> 6.8654971 | F14: 7070009 | G14: Vente de marchandises aux EEDF | H14: =-SUMIF(Table13[Type],'Budget CR'!G14,Table13[Montant]) -> 0 | I14: =SUMIF('Liste prévisionnel'!M:M,'Budget CR'!G14,'Liste prévisionnel'!E:E) -> 0 | J14: =IF(H14=0,0,I14/H14) -> 0
A15: 6064000 | B15: Fournitures administratives | C15: =-SUMIF(Table13[Type],'Budget CR'!B15,Table13[Montant]) -> 0 | D15: =-SUMIF('Liste prévisionnel'!M:M,'Budget CR'!B15,'Liste prévisionnel'!E:E) -> 0 | E15: =IF(C15=0,0,D15/C15) -> 0 | F15: 7083000 | G15: Locations immobilières & mobilières | H15: =-SUMIF(Table13[Type],'Budget CR'!G15,Table13[Montant]) -> 0 | I15: =SUMIF('Liste prévisionnel'!M:M,'Budget CR'!G15,'Liste prévisionnel'!E:E) -> 0 | J15: =IF(H15=0,0,I15/H15) -> 0
A16: 6065000 | B16: Carburants | C16: =-SUMIF(Table13[Type],'Budget CR'!B16,Table13[Montant]) -> 100 | D16: =-SUMIF('Liste prévisionnel'!M:M,'Budget CR'!B16,'Liste prévisionnel'!E:E) -> 1125 | E16: =IF(C16=0,0,D16/C16) -> 11.25 | F16: 7083009 | G16: Locations immobilières & mobilières EEDF | H16: =-SUMIF(Table13[Type],'Budget CR'!G16,Table13[Montant]) -> 0 | I16: =SUMIF('Liste prévisionnel'!M:M,'Budget CR'!G16,'Liste prévisionnel'!E:E) -> 0 | J16: =IF(H16=0,0,I16/H16) -> 0
A17: 6066000 | B17: Produits pharmaceutiques | C17: =-SUMIF(Table13[Type],'Budget CR'!B17,Table13[Montant]) -> 0 | D17: =-SUMIF('Liste prévisionnel'!M:M,'Budget CR'!B17,'Liste prévisionnel'!E:E) -> 100 | E17: =IF(C17=0,0,D17/C17) -> 0 | F17: 7080000 | G17: Produits activités annexes | H17: =SUMIF(Table13[Type],'Budget CR'!G17,Table13[Montant]) -> 900 | I17: =SUMIF('Liste prévisionnel'!M:M,'Budget CR'!G17,'Liste prévisionnel'!E:E) -> 0 | J17: =IF(H17=0,0,I17/H17) -> 0
A18: 6068000 | B18: Fournitures éducatives et pédagogiques | C18: =-SUMIF(Table13[Type],'Budget CR'!B18,Table13[Montant]) -> 200 | D18: =-SUMIF('Liste prévisionnel'!M:M,'Budget CR'!B18,'Liste prévisionnel'!E:E) -> 3125 | E18: =IF(C18=0,0,D18/C18) -> 15.625 | F18: 7080009 | G18: Produits activités annexes EEDF | H18: =-SUMIF(Table13[Type],'Budget CR'!G18,Table13[Montant]) -> 0 | I18: =SUMIF('Liste prévisionnel'!M:M,'Budget CR'!G18,'Liste prévisionnel'!E:E) -> 2950 | J18: =IF(H18=0,0,I18/H18) -> 0
A19: 6070000 | B19: Achat de marchandises pour la revente | C19: =-SUMIF(Table13[Type],'Budget CR'!B19,Table13[Montant]) -> 0 | D19: =-SUMIF('Liste prévisionnel'!M:M,'Budget CR'!B19,'Liste prévisionnel'!E:E) -> 0 | E19: =IF(C19=0,0,D19/C19) -> 0
A20: 6070009 | B20: Achat de marchandises à EEDF pour revente | C20: =-SUMIF(Table13[Type],'Budget CR'!B20,Table13[Montant]) -> 0 | D20: =-SUMIF('Liste prévisionnel'!M:M,'Budget CR'!B20,'Liste prévisionnel'!E:E) -> 0 | E20: =IF(C20=0,0,D20/C20) -> 0
A21: 61 | B21: Services extérieurs | C21: =SUM(C22:C31) -> 14136.05 | D21: =SUM(D22:D31) -> 21008.81 | F21: 74 | G21: Subventions | H21: =SUM(H22:H30) -> 10320 | I21: =SUM(I22:I30) -> 17040
A22: 6132000 | B22: Locations immobilières | C22: =-SUMIF(Table13[Type],'Budget CR'!B22,Table13[Montant]) -> 4320 | D22: =-SUMIF('Liste prévisionnel'!M:M,'Budget CR'!B22,'Liste prévisionnel'!E:E) -> 8480 | E22: =IF(C22=0,0,D22/C22) -> 1.962963 | F22: 7410000 | G22: Subventions Nationales | H22: =SUMIF(Table13[Type],'Budget CR'!G22,Table13[Montant]) -> 6000 | I22: =SUMIF('Liste prévisionnel'!M:M,'Budget CR'!G22,'Liste prévisionnel'!E:E) -> 6600 | J22: =IF(H22=0,0,I22/H22) -> 1.1
A23: 6132009 | B23: Locations terrains et centres EEDF | C23: =-SUMIF(Table13[Type],'Budget CR'!B23,Table13[Montant]) -> 8600 | D23: =-SUMIF('Liste prévisionnel'!M:M,'Budget CR'!B23,'Liste prévisionnel'!E:E) -> 9000 | E23: =IF(C23=0,0,D23/C23) -> 1.0465116 | F23: 7411000 | G23: Subventions régionales | H23: =-SUMIF(Table13[Type],'Budget CR'!G23,Table13[Montant]) -> 0 | I23: =SUMIF('Liste prévisionnel'!M:M,'Budget CR'!G23,'Liste prévisionnel'!E:E) -> 6000 | J23: =IF(H23=0,0,I23/H23) -> 0
A24: 6135000 | B24: Autres locations (matériel, véhicules) | C24: =-SUMIF(Table13[Type],'Budget CR'!B24,Table13[Montant]) -> 0 | D24: =-SUMIF('Liste prévisionnel'!M:M,'Budget CR'!B24,'Liste prévisionnel'!E:E) -> 1080 | E24: =IF(C24=0,0,D24/C24) -> 0 | F24: 7412000 | G24: Subventions départementales | H24: =-SUMIF(Table13[Type],'Budget CR'!G24,Table13[Montant]) -> 0 | I24: =SUMIF('Liste prévisionnel'!M:M,'Budget CR'!G24,'Liste prévisionnel'!E:E) -> 0 | J24: =IF(H24=0,0,I24/H24) -> 0
A25: 6135009 | B25: Location mobilères à EEDF | C25: =-SUMIF(Table13[Type],'Budget CR'!B25,Table13[Montant]) -> 0 | D25: =-SUMIF('Liste prévisionnel'!M:M,'Budget CR'!B25,'Liste prévisionnel'!E:E) -> 0 | E25: =IF(C25=0,0,D25/C25) -> 0 | F25: 7413000 | G25: Subventions communales | H25: =SUMIF(Table13[Type],'Budget CR'!G25,Table13[Montant]) -> 4320 | I25: =SUMIF('Liste prévisionnel'!M:M,'Budget CR'!G25,'Liste prévisionnel'!E:E) -> 4440 | J25: =IF(H25=0,0,I25/H25) -> 1.0277778
A26: 6140000 | B26: Charges locatives et de copropriété | C26: =-SUMIF(Table13[Type],'Budget CR'!B26,Table13[Montant]) -> 0 | D26: =-SUMIF('Liste prévisionnel'!M:M,'Budget CR'!B26,'Liste prévisionnel'!E:E) -> 0 | E26: =IF(C26=0,0,D26/C26) -> 0 | F26: 7414000 | G26: Subventions aides à l'emploi (CNASEA/ASP…) | H26: =-SUMIF(Table13[Type],'Budget CR'!G26,Table13[Montant]) -> 0 | I26: =SUMIF('Liste prévisionnel'!M:M,'Budget CR'!G26,'Liste prévisionnel'!E:E) -> 0 | J26: =IF(H26=0,0,I26/H26) -> 0
A27: 6150000 | B27: Entretien et réparations | C27: =-SUMIF(Table13[Type],'Budget CR'!B27,Table13[Montant]) -> 200 | D27: =-SUMIF('Liste prévisionnel'!M:M,'Budget CR'!B27,'Liste prévisionnel'!E:E) -> 500 | E27: =IF(C27=0,0,D27/C27) -> 2.5 | F27: 7414009 | G27: Subventions Reversées par EEDF (Fonjep) | H27: =-SUMIF(Table13[Type],'Budget CR'!G27,Table13[Montant]) -> 0 | I27: =SUMIF('Liste prévisionnel'!M:M,'Budget CR'!G27,'Liste prévisionnel'!E:E) -> 0 | J27: =IF(H27=0,0,I27/H27) -> 0
A28: 6160000 | B28: Primes d'assurance | C28: =-SUMIF(Table13[Type],'Budget CR'!B28,Table13[Montant]) -> 1016.05 | D28: =-SUMIF('Liste prévisionnel'!M:M,'Budget CR'!B28,'Liste prévisionnel'!E:E) -> 1948.81 | E28: =IF(C28=0,0,D28/C28) -> 1.9180257 | F28: 7415000 | G28: Subventions organismes publiques (CAF…) | H28: =-SUMIF(Table13[Type],'Budget CR'!G28,Table13[Montant]) -> 0 | I28: =SUMIF('Liste prévisionnel'!M:M,'Budget CR'!G28,'Liste prévisionnel'!E:E) -> 0 | J28: =IF(H28=0,0,I28/H28) -> 0
A29: 6180000 | B29: Frais de formations extérieures | C29: =-SUMIF(Table13[Type],'Budget CR'!B29,Table13[Montant]) -> 0 | D29: =-SUMIF('Liste prévisionnel'!M:M,'Budget CR'!B29,'Liste prévisionnel'!E:E) -> 0 | E29: =IF(C29=0,0,D29/C29) -> 0 | F29: 7416000 | G29: subventions orgnismes privés | H29: =-SUMIF(Table13[Type],'Budget CR'!G29,Table13[Montant]) -> 0 | I29: =SUMIF('Liste prévisionnel'!M:M,'Budget CR'!G29,'Liste prévisionnel'!E:E) -> 0 | J29: =IF(H29=0,0,I29/H29) -> 0
A30: 6180009 | B30: Frais de formation EEDF | C30: =-SUMIF(Table13[Type],'Budget CR'!B30,Table13[Montant]) -> 0 | D30: =-SUMIF('Liste prévisionnel'!M:M,'Budget CR'!B30,'Liste prévisionnel'!E:E) -> 0 | E30: =IF(C30=0,0,D30/C30) -> 0 | F30: 7480000 | G30: Fonds européens | H30: =-SUMIF(Table13[Type],'Budget CR'!G30,Table13[Montant]) -> 0 | I30: =SUMIF('Liste prévisionnel'!M:M,'Budget CR'!G30,'Liste prévisionnel'!E:E) -> 0 | J30: =IF(H30=0,0,I30/H30) -> 0
A31: 6183000 | B31: Documentation | C31: =-SUMIF(Table13[Type],'Budget CR'!B31,Table13[Montant]) -> 0 | D31: =-SUMIF('Liste prévisionnel'!M:M,'Budget CR'!B31,'Liste prévisionnel'!E:E) -> 0 | E31: =IF(C31=0,0,D31/C31) -> 0
A32: 62 | B32: Autres services extérieurs | C32: =SUM(C33:C40) -> 11706.7 | D32: =SUM(D33:D40) -> 4483.6
A33: 6226000 | B33: Honoraires | C33: =-SUMIF(Table13[Type],'Budget CR'!B33,Table13[Montant]) -> 0 | D33: =-SUMIF('Liste prévisionnel'!M:M,'Budget CR'!B33,'Liste prévisionnel'!E:E) -> 0 | E33: =IF(C33=0,0,D33/C33) -> 0
A34: 6230000 | B34: Publication et promotion | C34: =-SUMIF(Table13[Type],'Budget CR'!B34,Table13[Montant]) -> 0 | D34: =-SUMIF('Liste prévisionnel'!M:M,'Budget CR'!B34,'Liste prévisionnel'!E:E) -> 0 | E34: =IF(C34=0,0,D34/C34) -> 0
A35: 6230009 | B35: Publication et promotion à EEDF | C35: =-SUMIF(Table13[Type],'Budget CR'!B35,Table13[Montant]) -> 0 | D35: =-SUMIF('Liste prévisionnel'!M:M,'Budget CR'!B35,'Liste prévisionnel'!E:E) -> 0 | E35: =IF(C35=0,0,D35/C35) -> 0
A36: 6240000 | B36: Transport des participants | C36: =-SUMIF(Table13[Type],'Budget CR'!B36,Table13[Montant]) -> 8700 | D36: =-SUMIF('Liste prévisionnel'!M:M,'Budget CR'!B36,'Liste prévisionnel'!E:E) -> 3650 | E36: =IF(C36=0,0,D36/C36) -> 0.41954023
A37: 6250000 | B37: Trpt et déplac;, missions, réceptions | C37: =-SUMIF(Table13[Type],'Budget CR'!B37,Table13[Montant]) -> 2831.7 | D37: =-SUMIF('Liste prévisionnel'!M:M,'Budget CR'!B37,'Liste prévisionnel'!E:E) -> 700 | E37: =IF(C37=0,0,D37/C37) -> 0.24720133
A38: 6260000 | B38: Affranchissement, téléphone et internet | C38: =-SUMIF(Table13[Type],'Budget CR'!B38,Table13[Montant]) -> 120 | D38: =-SUMIF('Liste prévisionnel'!M:M,'Budget CR'!B38,'Liste prévisionnel'!E:E) -> 0 | E38: =IF(C38=0,0,D38/C38) -> 0
A39: 6270000 | B39: Services bancaires | C39: =-SUMIF(Table13[Type],'Budget CR'!B39,Table13[Montant]) -> 55 | D39: =-SUMIF('Liste prévisionnel'!M:M,'Budget CR'!B39,'Liste prévisionnel'!E:E) -> 63.6 | E39: =IF(C39=0,0,D39/C39) -> 1.1563636
A40: 6280000 | B40: Cotisations autres associations | C40: =-SUMIF(Table13[Type],'Budget CR'!B40,Table13[Montant]) -> 0 | D40: =-SUMIF('Liste prévisionnel'!M:M,'Budget CR'!B40,'Liste prévisionnel'!E:E) -> 70 | E40: =IF(C40=0,0,D40/C40) -> 0
A41: 63 | B41: Impôts et taxes | C41: =C42 -> 0 | D41: =D42 -> 0
A42: 6370000 | B42: Impôts divers | C42: =-SUMIF(Table13[Type],'Budget CR'!B42,Table13[Montant]) -> 0 | D42: =-SUMIF('Liste prévisionnel'!L:L,'Budget CR'!B42,'Liste prévisionnel'!E:E) -> 0 | E42: =IF(C42=0,0,D42/C42) -> 0
A43: 64 | B43: Charges de personnel | C43: =SUM(C44:C46) -> 9400 | D43: =SUM(D44:D46) -> 0
...

Sheet TCD
A1: Exercice | B1: 2024 | H1: Considérant les retraîtements
A3: Row Labels | B3: Sum of Montant | H3: Exercice | I3: 2024
A4: Activité Guebwiller | B4: 1114.01 | H4: A reverser | I4: NON
A5: Activité SLA | B5: 2185.45
A6: BAFA Base avril | B6: 4227.32 | H6: Row Labels | I6: Sum of Montant
A7: Camion | B7: -337.45 | H7: BAFA Base avril | I7: 208.32
A8: Congrès | B8: -20.05 | H8: Camion | I8: -337.45
A9: Fonctionnement | B9: -6 | H9: Congrès | I9: -20.05
A10: MS AD | B10: 560 | H10: Fonctionnement | I10: -6
A11: RIR | B11: -174 | H11: MS AD | I11: 560
A12: Tremplin camp | B12: -1926.5 | H12: RIR | I12: -174
A13: visite camps | B13: -167.03 | H13: Tremplin camp | I13: -1926.5
A14: Permanence | B14: -1449.23 | H14: visite camps | I14: -167.03
A15: Grand Total | B15: 4006.52 | H15: Permanence | I15: -1449.23
H16: Grand Total | I16: -3311.94

Sheet Liste Réel
F1: Total 2024 | G1: =SUMIF(A:A,"2024",E:E) -> 0 | I1: Sous-total | J1: =SUBTOTAL(109,E:E) -> 0 | L1: Contribution 2024 | M1: =SUMIF(M3:M2740,N1,E3:E2740)/10 -> 0 | N1: Participation aux camps, activités
A2: Exercice | B2: N° | C2: Date | D2: Compte/caisse/CHQ | E2: Montant | F2: Tiers | G2: Description | H2: Analytique 0 | I2: Analytique 1 | J2: projet | K2: Détail | L2: A reverser | M2: Compta | N2: Produits | O2: Charges | P2: Column1

Sheet Liste prévisionnel
G1: =SUMIF(A:A,"2024",E:E) -> 0 | I1: Sous-total | J1: =SUBTOTAL(109,E:E) -> 3659.99 | L1: Contribution 2024 | M1: =SUMIF(M3:M2504,N1,E3:E2504)/10 -> 5109 | N1: Participation aux camps, activités
A2: Exercice | B2: N° | C2: Date | D2: Compte/caisse/CHQ | E2: Montant | F2: Colonne1 | G2: Description | H2: Analytique 0 | I2: Analytique 1 | J2: projet | K2: Détail | L2: A reverser | M2: Compta | N2: Produits | O2: Charges | P2: Column1 | Q2: Check1 | R2: check2
A3: 2025 | B3: 95 | E3: -70 | G3: Adhésion COJEP | H3: Fonctionnement | I3: Frais généraux | J3: Adhésion autres association | L3: NON | M3: Cotisations autres associations | N3: =IF(BP[[#This Row],[Montant]]>0,BP[[#This Row],[Montant]],0) -> 0 | O3: =IF(BP[[#This Row],[Montant]]<0,-BP[[#This Row],[Montant]],0) -> 70 | P3: =IFERROR(VLOOKUP(BP[[#This Row],[projet]],'Listes détails'!A:I,9,0),"") | Q3: =VLOOKUP(BP[[#This Row],[Compta]],'Budget CR'!B:B,1,0) -> Cotisations autres associations | R3: =VLOOKUP(BP[[#This Row],[Compta]],'Budget CR'!G:G,1,0) -> #N/A
A4: 2025 | E4: -350 | G4: Adhésions | H4: Fonctionnement | I4: Frais associatifs | J4: Adhésions | L4: NON | M4: Cotisations payées au siège | N4: =IF(BP[[#This Row],[Montant]]>0,BP[[#This Row],[Montant]],0) -> 0 | O4: =IF(BP[[#This Row],[Montant]]<0,-BP[[#This Row],[Montant]],0) -> 350 | P4: =VLOOKUP(BP[[#This Row],[projet]],'Listes détails'!A:I,9,0) -> #N/A | Q4: =VLOOKUP(BP[[#This Row],[Compta]],'Budget CR'!B:B,1,0) -> Cotisations payées au siège | R4: =VLOOKUP(BP[[#This Row],[Compta]],'Budget CR'!G:G,1,0) -> #N/A
A5: 2025 | E5: 350 | G5: Adhésions | H5: Fonctionnement | I5: Frais associatifs | J5: Adhésions | L5: NON | M5: Cotisations des adhérents | N5: =IF(BP[[#This Row],[Montant]]>0,BP[[#This Row],[Montant]],0) -> 350 | O5: =IF(BP[[#This Row],[Montant]]<0,-BP[[#This Row],[Montant]],0) -> 0 | P5: =VLOOKUP(BP[[#This Row],[projet]],'Listes détails'!A:I,9,0) -> #N/A | Q5: =VLOOKUP(BP[[#This Row],[Compta]],'Budget CR'!B:B,1,0) -> #N/A | R5: =VLOOKUP(BP[[#This Row],[Compta]],'Budget CR'!G:G,1,0) -> Cotisations des adhérents
A6: 2025 | E6: -3000 | G6: Hébergement | H6: Pédagogie | I6: Formations | J6: BAFA Appro octobre | L6: NON | M6: Locations terrains et centres EEDF | N6: =IF(BP[[#This Row],[Montant]]>0,BP[[#This Row],[Montant]],0) -> 0 | O6: =IF(BP[[#This Row],[Montant]]<0,-BP[[#This Row],[Montant]],0) -> 3000 | P6: =VLOOKUP(BP[[#This Row],[projet]],'Listes détails'!A:I,9,0) -> #N/A | Q6: =VLOOKUP(BP[[#This Row],[Compta]],'Budget CR'!B:B,1,0) -> Locations terrains et centres EEDF | R6: =VLOOKUP(BP[[#This Row],[Compta]],'Budget CR'!G:G,1,0) -> #N/A
A7: 2025 | E7: =-10*6*25 -> -1500 | G7: Alimentaire | H7: Pédagogie | I7: Formations | J7: BAFA Appro octobre | K7: 10€/j sur 6 j à 25 pers | L7: NON | M7: Achats denrées alimentaires | N7: =IF(BP[[#This Row],[Montant]]>0,BP[[#This Row],[Montant]],0) -> 0 | O7: =IF(BP[[#This Row],[Montant]]<0,-BP[[#This Row],[Montant]],0) -> 1500 | P7: =VLOOKUP(BP[[#This Row],[projet]],'Listes détails'!A:I,9,0) -> #N/A | Q7: =VLOOKUP(BP[[#This Row],[Compta]],'Budget CR'!B:B,1,0) -> Achats denrées alimentaires | R7: =VLOOKUP(BP[[#This Row],[Compta]],'Budget CR'!G:G,1,0) -> #N/A
A8: 2025 | E8: =100*-15 -> -1500 | G8: Bourse régionale | H8: Pédagogie | I8: Formations | J8: BAFA Appro octobre | K8: 15 stagiaires concernés | L8: NON | M8: Aides versées aux structures EEDF | N8: =IF(BP[[#This Row],[Montant]]>0,BP[[#This Row],[Montant]],0) -> 0 | O8: =IF(BP[[#This Row],[Montant]]<0,-BP[[#This Row],[Montant]],0) -> 1500 | P8: =VLOOKUP(BP[[#This Row],[projet]],'Listes détails'!A:I,9,0) -> #N/A | Q8: =VLOOKUP(BP[[#This Row],[Compta]],'Budget CR'!B:B,1,0) -> Aides versées aux structures EEDF | R8: =VLOOKUP(BP[[#This Row],[Compta]],'Budget CR'!G:G,1,0) -> #N/A
A9: 2025 | E9: -500 | G9: Péda | H9: Pédagogie | I9: Formations | J9: BAFA Appro octobre | L9: NON | M9: Fournitures éducatives et pédagogiques | N9: =IF(BP[[#This Row],[Montant]]>0,BP[[#This Row],[Montant]],0) -> 0 | O9: =IF(BP[[#This Row],[Montant]]<0,-BP[[#This Row],[Montant]],0) -> 500 | P9: =IFERROR(VLOOKUP(BP[[#This Row],[projet]],'Listes détails'!A:I,9,0),"") | Q9: =VLOOKUP(BP[[#This Row],[Compta]],'Budget CR'!B:B,1,0) -> Fournitures éducatives et pédagogiques | R9: =VLOOKUP(BP[[#This Row],[Compta]],'Budget CR'!G:G,1,0) -> #N/A
A10: 2025 | E10: =14*475 -> 6650 | G10: Participation stagiaire | H10: Pédagogie | I10: Formations | J10: BAFA Appro octobre | K10: 13 stagiaires | L10: NON | M10: Participation aux camps, activités | N10: =IF(BP[[#This Row],[Montant]]>0,BP[[#This Row],[Montant]],0) -> 6650 | O10: =IF(BP[[#This Row],[Montant]]<0,-BP[[#This Row],[Montant]],0) -> 0 | P10: =VLOOKUP(BP[[#This Row],[projet]],'Listes détails'!A:I,9,0) -> #N/A | Q10: =VLOOKUP(BP[[#This Row],[Compta]],'Budget CR'!B:B,1,0) -> #N/A | R10: =VLOOKUP(BP[[#This Row],[Compta]],'Budget CR'!G:G,1,0) -> Participation aux camps, activités
A11: 2025 | B11: 114 | E11: -3000 | G11: Hébergement | H11: Pédagogie | I11: Formations | J11: BAFA Base avril | L11: NON | M11: Locations terrains et centres EEDF | N11: =IF(BP[[#This Row],[Montant]]>0,BP[[#This Row],[Montant]],0) -> 0 | O11: =IF(BP[[#This Row],[Montant]]<0,-BP[[#This Row],[Montant]],0) -> 3000 | P11: =IFERROR(VLOOKUP(BP[[#This Row],[projet]],'Listes détails'!A:I,9,0),"") -> Formations BAFA-BAFD | Q11: =VLOOKUP(BP[[#This Row],[Compta]],'Budget CR'!B:B,1,0) -> Locations terrains et centres EEDF | R11: =VLOOKUP(BP[[#This Row],[Compta]],'Budget CR'!G:G,1,0) -> #N/A
